BEGIN:VCALENDAR
VERSION:2.0
PRODID:-//wp-events-plugin.com//7.2.3.1//EN
TZID:America/Los_Angeles
X-WR-TIMEZONE:America/Los_Angeles
BEGIN:VEVENT
UID:5@the-brotherhood-of-the-book.org
DTSTART;TZID=America/Los_Angeles:20230211T073000
DTEND;TZID=America/Los_Angeles:20230211T090000
DTSTAMP:20230206T170039Z
URL:https://the-brotherhood-of-the-book.org/events/gathering-the-big-blue-
 barn-3/
SUMMARY:Gathering - The Big Blue Barn
DESCRIPTION:Gathering\, Saturday\, 7:30am\, Big Blue Barn.  Lead Dogs - Bo
 b Orth &amp\; Tim Chen  Study - James Castruccio &amp\; Sharing Time.  C
 ooks - James Dodson Lead with Charlie Boucher &amp\; Cedrick Redula.  Cle
 an Up - Josh Davis &amp\; Josh Contreras.
ATTACH;FMTTYPE=image/jpeg:https://the-brotherhood-of-the-book.org/wp-conte
 nt/uploads/2023/01/2022-11-14-Gathering-pic.jpeg
LOCATION:The Big Blue Barn - Chris Veley's Place\, 34810 SE 20th St.\, Wash
 ougal\, WA \, 98671\, United States
X-APPLE-STRUCTURED-LOCATION;VALUE=URI;X-ADDRESS=34810 SE 20th St.\, Washoug
 al\, WA \, 98671\, United States;X-APPLE-RADIUS=100;X-TITLE=The Big Blue B
 arn - Chris Veley's Place:geo:0,0
END:VEVENT
BEGIN:VTIMEZONE
TZID:America/Los_Angeles
X-LIC-LOCATION:America/Los_Angeles
BEGIN:STANDARD
DTSTART:20221106T010000
TZOFFSETFROM:-0700
TZOFFSETTO:-0800
TZNAME:PST
END:STANDARD
END:VTIMEZONE
END:VCALENDAR