BEGIN:VCALENDAR
VERSION:2.0
PRODID:-//wp-events-plugin.com//7.2.3.1//EN
TZID:America/Los_Angeles
X-WR-TIMEZONE:America/Los_Angeles
BEGIN:VEVENT
UID:44@the-brotherhood-of-the-book.org
DTSTART;TZID=America/Los_Angeles:20240217T073000
DTEND;TZID=America/Los_Angeles:20240217T090000
DTSTAMP:20231128T044501Z
URL:https://the-brotherhood-of-the-book.org/events/gathering-the-big-blue-
 barn-32/
SUMMARY:Gathering - The Big Blue Barn
DESCRIPTION:Gathering - The Big Blue Barn.  Lead Dog - D. Mike Collins. 
  Study - 2 Peter 2:17-22\, Michael Bailey.  Cooks - Jim Dodson.
ATTACH;FMTTYPE=image/jpeg:https://the-brotherhood-of-the-book.org/wp-conte
 nt/uploads/2023/01/2022-11-14-Gathering-pic.jpeg
LOCATION:The Big Blue Barn - Chris Veley's Place\, 34810 SE 20th St.\, Wash
 ougal\, WA\, 98671\, United States
X-APPLE-STRUCTURED-LOCATION;VALUE=URI;X-ADDRESS=34810 SE 20th St.\, Washoug
 al\, WA\, 98671\, United States;X-APPLE-RADIUS=100;X-TITLE=The Big Blue Ba
 rn - Chris Veley's Place:geo:0,0
END:VEVENT
BEGIN:VTIMEZONE
TZID:America/Los_Angeles
X-LIC-LOCATION:America/Los_Angeles
BEGIN:STANDARD
DTSTART:20231105T010000
TZOFFSETFROM:-0700
TZOFFSETTO:-0800
TZNAME:PST
END:STANDARD
END:VTIMEZONE
END:VCALENDAR