BEGIN:VCALENDAR
VERSION:2.0
PRODID:-//wp-events-plugin.com//7.2.3.1//EN
TZID:America/Los_Angeles
X-WR-TIMEZONE:America/Los_Angeles
BEGIN:VEVENT
UID:38@the-brotherhood-of-the-book.org
DTSTART;TZID=America/Los_Angeles;VALUE=DATE:20231216
DTEND;TZID=America/Los_Angeles;VALUE=DATE:20231217
DTSTAMP:20230903T020521Z
URL:https://the-brotherhood-of-the-book.org/events/the-brotherhood-christm
 as-party/
SUMMARY:The Brotherhood - Christmas Party
DESCRIPTION:The Brotherhood Christmas Party - details to follow
ATTACH;FMTTYPE=image/jpeg:https://the-brotherhood-of-the-book.org/wp-conte
 nt/uploads/2023/09/98e15687aaffd1f09e3b9d83d6d932f52bc91440c0b9ca00511c71a
 dfaa50479._UY500_UX667_RI_TTW_.jpg
END:VEVENT
BEGIN:VTIMEZONE
TZID:America/Los_Angeles
X-LIC-LOCATION:America/Los_Angeles
BEGIN:STANDARD
DTSTART:20231105T010000
TZOFFSETFROM:-0700
TZOFFSETTO:-0800
TZNAME:PST
END:STANDARD
END:VTIMEZONE
END:VCALENDAR